BEGIN:VCALENDAR
VERSION:2.0
PRODID:-//ChamberMaster//Event Calendar 2.0//EN
METHOD:PUBLISH
X-PUBLISHED-TTL:P3D
REFRESH-INTERVAL:P3D
CALSCALE:GREGORIAN
BEGIN:VEVENT
DTSTART:20221103T230000Z
DTEND:20221104T010000Z
X-MICROSOFT-CDO-ALLDAYEVENT:FALSE
SUMMARY:See Yourself In Cyber- Cybersecurity Panel
DESCRIPTION:Join us for a night of cyber security\, networking\, and a panel discussion! The New Mexico Technology Council's Cyber Security Peer Group\, in partnership with PNM\, will be hosting a "See Yourself in Cyber" panel to highlight some of our state's cyber security talent.\n\n\n\nThe panel will be moderated by our Cyber Security Peer Group Chair\, Del Ameko\, and will be comprised of several cyber professionals including:\n\n	Chris Hammer\, Cybersecurity Specialist\, ANM\n	Nick Murrietta\, PNMR Cybersecurity Operations and Engineering Manager\n\n\n\nThank you PNM for sponsoring this event!
X-ALT-DESC;FMTTYPE=text/html:Join us for a night of cyber security\, networking\, and a panel discussion! The New Mexico Technology Council&#39\;s Cyber Security Peer Group\, in partnership with PNM\, will be hosting a &quot\;See Yourself in Cyber&quot\; panel to highlight some of our state&#39\;s cyber security talent.<br />\n<br />\nThe panel will be moderated by our Cyber Security Peer Group Chair\, Del Ameko\, and will be comprised of several cyber professionals including:\n<ul>\n	<li>Chris Hammer\, Cybersecurity Specialist\, ANM</li>\n	<li>Nick Murrietta\, PNMR Cybersecurity Operations and Engineering Manager</li>\n</ul>\n<br />\nThank you PNM for sponsoring this event!&nbsp\;<br />\n&nbsp\;
LOCATION:PNM Downtown Headquarters\, 414 Silver Ave SW\, ABQ\, NM\, 4th floor Parking: Service Lot behind building (entrance on Lead & 5th St)
UID:e.9470.2191
SEQUENCE:3
DTSTAMP:20260423T000032Z
URL:http://nmtechcouncil.chambermaster.com/events/details/see-yourself-in-cyber-cybersecurity-panel-2191
END:VEVENT

END:VCALENDAR
