BEGIN:VCALENDAR
VERSION:2.0
PRODID:-//ChamberMaster//Event Calendar 2.0//EN
METHOD:PUBLISH
X-PUBLISHED-TTL:P3D
REFRESH-INTERVAL:P3D
CALSCALE:GREGORIAN
BEGIN:VEVENT
DTSTART:20250320T150000Z
DTEND:20250321T010000Z
X-MICROSOFT-CDO-ALLDAYEVENT:FALSE
SUMMARY:March Madness
DESCRIPTION:New Mexico's Tech Elite Assemble! Experience the most exhilarating educational technology event of the year. Join hundreds of fellow business owners and tech leaders and discover the winning edge!\n\n\n\n\n\n\n	Watch Party! Catch the Madness on our colossal videowalls as you cheer on your favorite teams while experiencing the latest tech!\n	Cutting-Edge Technology Demos: From game-changing printers to show-stopping video walls and more. Our experts will be courtside to answer all your questions!\n	FREE Food Truck: Fuel your game day with a free lunch from our awesome food truck!\n	Games & Prizes: Test your own March Madness skills with our basketball hoop and other fun games!\n	Raffle Prizes & Giveaways: Score big with exciting raffle prizes and giveaways throughout the day!\n	Cocktail Hour (21+): After the final buzzer\, join us for a celebratory cocktail hour   the perfect after-party for networking and enjoying the sunset.\n	Networking Extravaganza: Connect with hundreds of New Mexico professionals and build a winning team for your business!\n	Breakout Workshops: Level up your game in breakout sessions led by industry experts
X-ALT-DESC;FMTTYPE=text/html:<div class="elementor-element elementor-element-9aadd98 ob-harakiri-inherit ob-has-background-overlay elementor-widget elementor-widget-text-editor ob-harakiri" data-element_type="widget" data-id="9aadd98" data-settings="{&quot\;_ob_use_harakiri&quot\;:&quot\;yes&quot\;\,&quot\;_ob_harakiri_writing_mode&quot\;:&quot\;inherit&quot\;\,&quot\;_ob_postman_use&quot\;:&quot\;no&quot\;\,&quot\;_ob_widget_stalker_use&quot\;:&quot\;no&quot\;\,&quot\;_ob_poopart_use&quot\;:&quot\;yes&quot\;\,&quot\;_ob_shadough_use&quot\;:&quot\;no&quot\;\,&quot\;_ob_allow_hoveranimator&quot\;:&quot\;no&quot\;}" data-widget_type="text-editor.default" style="box-sizing: border-box\; --flex-direction: initial\; --flex-wrap: initial\; --justify-content: initial\; --align-items: initial\; --align-content: initial\; --gap: initial\; --flex-basis: initial\; --flex-grow: initial\; --flex-shrink: initial\; --order: initial\; --align-self: initial\; flex-basis: var(--flex-basis)\; flex-grow: var(--flex-grow)\; flex-shrink: var(--flex-shrink)\; order: var(--order)\; align-self: var(--align-self)\; flex-direction: var(--flex-direction)\; flex-wrap: var(--flex-wrap)\; justify-content: var(--justify-content)\; align-items: var(--align-items)\; align-content: var(--align-content)\; gap: var(--gap)\; position: relative\; --widgets-spacing: 20px 20px\; --swiper-theme-color: #000\; --swiper-navigation-size: 44px\; --swiper-pagination-bullet-size: 6px\; --swiper-pagination-bullet-horizontal-gap: 6px\; color: rgb(20\, 20\, 22)\; font-family: Montserrat\, sans-serif\; font-size: 20px\; line-height: var(--e-global-typography-text-line-height)\; margin-bottom: 20px\; min-width: 0px\; margin-block-end: 0px\; max-width: 100%\; writing-mode: inherit\;">\n<div class="elementor-widget-container" style="box-sizing: border-box\; transition: background .3s\,border .3s\,border-radius .3s\,box-shadow .3s\,transform var(--e-transform-transition-duration\,.4s)\; position: relative\; height: 160px\; mix-blend-mode: inherit\;">\n<p style="box-sizing: border-box\; margin-block: 0px 0.9rem\; margin-bottom: 16px\;"><span style="box-sizing: border-box\; font-weight: bolder\; color: rgb(242\, 11\, 41)\;">New Mexico&rsquo\;s Tech Elite Assemble!</span>&nbsp\;Experience the most exhilarating educational technology event of the year. Join hundreds of fellow business owners and tech leaders and discover the winning edge!</p>\n</div>\n</div>\n\n<div class="elementor-element elementor-element-76cee70 elementor-icon-list--layout-traditional elementor-list-item-link-full_width ob-has-background-overlay elementor-widget elementor-widget-icon-list" data-element_type="widget" data-id="76cee70" data-settings="{&quot\;_ob_widget_stalker_use&quot\;:&quot\;no&quot\;\,&quot\;_ob_poopart_use&quot\;:&quot\;yes&quot\;\,&quot\;_ob_shadough_use&quot\;:&quot\;no&quot\;\,&quot\;_ob_allow_hoveranimator&quot\;:&quot\;no&quot\;}" data-widget_type="icon-list.default" style="box-sizing: border-box\; --flex-direction: initial\; --flex-wrap: initial\; --justify-content: initial\; --align-items: initial\; --align-content: initial\; --gap: initial\; --flex-basis: initial\; --flex-grow: initial\; --flex-shrink: initial\; --order: initial\; --align-self: initial\; flex-basis: var(--flex-basis)\; flex-grow: var(--flex-grow)\; flex-shrink: var(--flex-shrink)\; order: var(--order)\; align-self: var(--align-self)\; flex-direction: var(--flex-direction)\; flex-wrap: var(--flex-wrap)\; justify-content: var(--justify-content)\; align-items: var(--align-items)\; align-content: var(--align-content)\; gap: var(--gap)\; position: relative\; --widgets-spacing: 20px 20px\; --swiper-theme-color: #000\; --swiper-navigation-size: 44px\; --swiper-pagination-bullet-size: 6px\; --swiper-pagination-bullet-horizontal-gap: 6px\; min-width: 0px\; margin-block-end: 0px\; --e-icon-list-icon-size: 8px\; --icon-vertical-align: center\; --icon-vertical-offset: 0px\; max-width: 100%\; color: rgb(20\, 20\, 22)\; font-family: Montserrat\, sans-serif\; font-size: 20px\;">\n<div class="elementor-widget-container" style="box-sizing: border-box\; transition: background .3s\,border .3s\,border-radius .3s\,box-shadow .3s\,transform var(--e-transform-transition-duration\,.4s)\; position: relative\; height: 860px\;">\n<ul class="elementor-icon-list-items" style="box-sizing: border-box\; margin-block: 0px\; border: 0px\; outline: 0px\; vertical-align: baseline\; background: transparent\; list-style-type: none\; margin: 0px\; padding-right: 0px\; padding-left: 0px\;">\n	<li class="elementor-icon-list-item" style="box-sizing: border-box\; margin-block: 0px\; border: 0px\; outline: 0px\; font-size: inherit\; vertical-align: baseline\; background: transparent\; margin: 0px\; padding: 0px 0px calc(0.5rem)\; position: relative\; display: flex\; align-items: var(--icon-vertical-align\,center)\;"><span class="elementor-icon-list-text" style="box-sizing: border-box\; color: var(--e-global-color-text)\; align-self: center\; padding-inline-start: 5px\; font-family: var(--e-global-typography-text-font-family)\,Sans-serif\; font-size: var(--e-global-typography-text-font-size)\; font-weight: var(--e-global-typography-text-font-weight)\; line-height: var(--e-global-typography-text-line-height)\; transition: color 0.3s\;"><span style="box-sizing: border-box\; font-weight: bolder\; color: rgb(242\, 11\, 41)\;">Watch Party!</span>&nbsp\;Catch the Madness on our colossal videowalls as you cheer on your favorite teams while experiencing the latest tech!</span></li>\n	<li class="elementor-icon-list-item" style="box-sizing: border-box\; margin-block: 0px\; border: 0px\; outline: 0px\; font-size: inherit\; vertical-align: baseline\; background: transparent\; margin: calc(0.5rem) 0px 0px\; padding: 0px 0px calc(0.5rem)\; position: relative\; display: flex\; align-items: var(--icon-vertical-align\,center)\;"><span class="elementor-icon-list-text" style="box-sizing: border-box\; color: var(--e-global-color-text)\; align-self: center\; padding-inline-start: 5px\; font-family: var(--e-global-typography-text-font-family)\,Sans-serif\; font-size: var(--e-global-typography-text-font-size)\; font-weight: var(--e-global-typography-text-font-weight)\; line-height: var(--e-global-typography-text-line-height)\; transition: color 0.3s\;"><span style="box-sizing: border-box\; font-weight: bolder\; color: rgb(242\, 11\, 41)\;">Cutting-Edge Technology Demos:&nbsp\;</span>From game-changing printers to show-stopping video walls and more. Our experts will be courtside to answer all your questions!</span></li>\n	<li class="elementor-icon-list-item" style="box-sizing: border-box\; margin-block: 0px\; border: 0px\; outline: 0px\; font-size: inherit\; vertical-align: baseline\; background: transparent\; margin: calc(0.5rem) 0px 0px\; padding: 0px 0px calc(0.5rem)\; position: relative\; display: flex\; align-items: var(--icon-vertical-align\,center)\;"><span class="elementor-icon-list-text" style="box-sizing: border-box\; color: var(--e-global-color-text)\; align-self: center\; padding-inline-start: 5px\; font-family: var(--e-global-typography-text-font-family)\,Sans-serif\; font-size: var(--e-global-typography-text-font-size)\; font-weight: var(--e-global-typography-text-font-weight)\; line-height: var(--e-global-typography-text-line-height)\; transition: color 0.3s\;"><span style="box-sizing: border-box\; font-weight: bolder\; color: rgb(242\, 11\, 41)\;">FREE Food Truck:</span>&nbsp\;Fuel your game day with a free lunch from our awesome food truck!</span></li>\n	<li class="elementor-icon-list-item" style="box-sizing: border-box\; margin-block: 0px\; border: 0px\; outline: 0px\; font-size: inherit\; vertical-align: baseline\; background: transparent\; margin: calc(0.5rem) 0px 0px\; padding: 0px 0px calc(0.5rem)\; position: relative\; display: flex\; align-items: var(--icon-vertical-align\,center)\;"><span class="elementor-icon-list-text" style="box-sizing: border-box\; color: var(--e-global-color-text)\; align-self: center\; padding-inline-start: 5px\; font-family: var(--e-global-typography-text-font-family)\,Sans-serif\; font-size: var(--e-global-typography-text-font-size)\; font-weight: var(--e-global-typography-text-font-weight)\; line-height: var(--e-global-typography-text-line-height)\; transition: color 0.3s\;"><span style="box-sizing: border-box\; font-weight: bolder\; color: rgb(242\, 11\, 41)\;">Games &amp\; Prizes:</span>&nbsp\;Test your own March Madness skills with our basketball hoop and other fun games!</span></li>\n	<li class="elementor-icon-list-item" style="box-sizing: border-box\; margin-block: 0px\; border: 0px\; outline: 0px\; font-size: inherit\; vertical-align: baseline\; background: transparent\; margin: calc(0.5rem) 0px 0px\; padding: 0px 0px calc(0.5rem)\; position: relative\; display: flex\; align-items: var(--icon-vertical-align\,center)\;"><span class="elementor-icon-list-text" style="box-sizing: border-box\; color: var(--e-global-color-text)\; align-self: center\; padding-inline-start: 5px\; font-family: var(--e-global-typography-text-font-family)\,Sans-serif\; font-size: var(--e-global-typography-text-font-size)\; font-weight: var(--e-global-typography-text-font-weight)\; line-height: var(--e-global-typography-text-line-height)\; transition: color 0.3s\;"><span style="box-sizing: border-box\; font-weight: bolder\; color: rgb(242\, 11\, 41)\;">Raffle Prizes &amp\; Giveaways:</span>&nbsp\;Score big with exciting raffle prizes and giveaways throughout the day!</span></li>\n	<li class="elementor-icon-list-item" style="box-sizing: border-box\; margin-block: 0px\; border: 0px\; outline: 0px\; font-size: inherit\; vertical-align: baseline\; background: transparent\; margin: calc(0.5rem) 0px 0px\; padding: 0px 0px calc(0.5rem)\; position: relative\; display: flex\; align-items: var(--icon-vertical-align\,center)\;"><span class="elementor-icon-list-text" style="box-sizing: border-box\; color: var(--e-global-color-text)\; align-self: center\; padding-inline-start: 5px\; font-family: var(--e-global-typography-text-font-family)\,Sans-serif\; font-size: var(--e-global-typography-text-font-size)\; font-weight: var(--e-global-typography-text-font-weight)\; line-height: var(--e-global-typography-text-line-height)\; transition: color 0.3s\;"><span style="box-sizing: border-box\; font-weight: bolder\; color: rgb(242\, 11\, 41)\;">Cocktail Hour (21+):</span>&nbsp\;After the final buzzer\, join us for a celebratory cocktail hour &ndash\; the perfect after-party for networking and enjoying the sunset.</span></li>\n	<li class="elementor-icon-list-item" style="box-sizing: border-box\; margin-block: 0px\; border: 0px\; outline: 0px\; font-size: inherit\; vertical-align: baseline\; background: transparent\; margin: calc(0.5rem) 0px 0px\; padding: 0px 0px calc(0.5rem)\; position: relative\; display: flex\; align-items: var(--icon-vertical-align\,center)\;"><span class="elementor-icon-list-text" style="box-sizing: border-box\; color: var(--e-global-color-text)\; align-self: center\; padding-inline-start: 5px\; font-family: var(--e-global-typography-text-font-family)\,Sans-serif\; font-size: var(--e-global-typography-text-font-size)\; font-weight: var(--e-global-typography-text-font-weight)\; line-height: var(--e-global-typography-text-line-height)\; transition: color 0.3s\;"><span style="box-sizing: border-box\; font-weight: bolder\; color: rgb(242\, 11\, 41)\;">Networking Extravaganza:</span>&nbsp\;Connect with hundreds of New Mexico professionals and build a winning team for your business!</span></li>\n	<li class="elementor-icon-list-item" style="box-sizing: border-box\; margin-block: 0px\; border: 0px\; outline: 0px\; font-size: inherit\; vertical-align: baseline\; background: transparent\; margin: calc(0.5rem) 0px 0px\; padding: 0px\; position: relative\; display: flex\; align-items: var(--icon-vertical-align\,center)\;"><span class="elementor-icon-list-text" style="box-sizing: border-box\; color: var(--e-global-color-text)\; align-self: center\; padding-inline-start: 5px\; font-family: var(--e-global-typography-text-font-family)\,Sans-serif\; font-size: var(--e-global-typography-text-font-size)\; font-weight: var(--e-global-typography-text-font-weight)\; line-height: var(--e-global-typography-text-line-height)\; transition: color 0.3s\;"><span style="box-sizing: border-box\; font-weight: bolder\; color: rgb(242\, 11\, 41)\;">Breakout Workshops:</span>&nbsp\;Level up your game in breakout sessions led by industry experts</span></li>\n</ul>\n</div>\n</div>\n
LOCATION:DSI - Document Solutions\, Inc. 4121 Prospect Ave. NE Suite A Albuquerque\, NM 87110
UID:e.9470.2421
SEQUENCE:3
DTSTAMP:20260422T071509Z
URL:http://nmtechcouncil.chambermaster.com/events/details/march-madness-2421
END:VEVENT

END:VCALENDAR
