BEGIN:VCALENDAR
VERSION:2.0
PRODID:-//ChamberMaster//Event Calendar 2.0//EN
METHOD:PUBLISH
X-PUBLISHED-TTL:P3D
REFRESH-INTERVAL:P3D
CALSCALE:GREGORIAN
BEGIN:VEVENT
DTSTART;VALUE=DATE:20220921
DTEND;VALUE=DATE:20220922
TRANSP:TRANSPARENT
X-MICROSOFT-CDO-ALLDAYEVENT:TRUE
SUMMARY:Experience IT 2022
DESCRIPTION:Experience IT is New Mexico's premier tech conference\, showcasing technology and business related topics. This year's theme is Resilience & Reinvention.\n\n\n\nExperienceIT is an opportunity for the tech industry in New Mexico and beyond to come together & discuss how tech has been and will continue to be at the forefront of creating resiliency in our society\, along with the push for reinvention that has occurred in the past few years. Join us as we talk through consumer shifts\, digital innovation\, cybersecurity\, and big trends to watch for! Attend exciting sessions and connect with the brightest minds in the industry. This year's event will bring together technology leaders across industry sectors.\n\n\n\nThis year's all-day event will feature 5 tracks focused on how the tech industry has gone through reinvention and become even more resilient over the past few years. \n\n\n	Digital Disruption: blockchain\, automation\, AI\, big data\, broadband. web 3\n	Embracing Change: creativity\, leading change\, innovation\, creative tech\n	Enhancing Humanity: bioscience\, telehealth\, broadband\, robotics\n	Reimagining the Workplace: DEI\, productivity\, remote work\, workforce development\n	Risk Management: zero tolerance\, cybersecurity\, blockchain\n\n\nTo view the full program\, please visit ExperienceITnm.com\n\n \n\nTickets Include:\n\n\n	Breakfast & lunch\n	Access to the full day of content in person\n	Networking\n	Opportunity to visit with exhibitors and win prizes\n	Swag bag\n\n\nNMTC Members - $120\n\nNon-Member: $150\n\n\n**The NMTC will follow the New Public Health Orders related to public gatherings for our experienceIT Conference\, as your safety is our utmost concern. As we move forward with planning this great event\, we will continue to monitor and assess the COVID situation and make adjustments to our plans\, as necessary. \n\n \nWe are doing our absolute best to meet the challenges of our current times as the public health situation continues to unfold. Tickets will be non-refundable after September 15th\, however NMTC will offer a credit for a future event.
X-ALT-DESC;FMTTYPE=text/html:<p style="margin: 0px\;"><span style="font-size:14px\;"><span style="font-family:arial\;"><span style="color: rgb(29\, 28\, 29)\; font-variant-ligatures: common-ligatures\;">Experience&nbsp\;</span><span style="color: rgb(29\, 28\, 29)\; font-variant-ligatures: common-ligatures\;">IT</span><span style="color: rgb(29\, 28\, 29)\; font-variant-ligatures: common-ligatures\;">&nbsp\;</span><span style="color: rgb(29\, 28\, 29)\; font-variant-ligatures: common-ligatures\;">is</span><span style="color: rgb(29\, 28\, 29)\; font-variant-ligatures: common-ligatures\;">&nbsp\;</span><span style="color: rgb(29\, 28\, 29)\; font-variant-ligatures: common-ligatures\;">New</span><span style="color: rgb(29\, 28\, 29)\; font-variant-ligatures: common-ligatures\;">&nbsp\;</span><span style="color: rgb(29\, 28\, 29)\; font-variant-ligatures: common-ligatures\;">Mexico&rsquo\;s</span><span style="color: rgb(29\, 28\, 29)\; font-variant-ligatures: common-ligatures\;">&nbsp\;</span><span style="color: rgb(29\, 28\, 29)\; font-variant-ligatures: common-ligatures\;">premier</span><span style="color: rgb(29\, 28\, 29)\; font-variant-ligatures: common-ligatures\;">&nbsp\;</span><span style="color: rgb(29\, 28\, 29)\; font-variant-ligatures: common-ligatures\;">tech</span><span style="color: rgb(29\, 28\, 29)\; font-variant-ligatures: common-ligatures\;">&nbsp\;conference</span><span style="color: rgb(29\, 28\, 29)\; font-variant-ligatures: common-ligatures\;">\,</span><span style="color: rgb(29\, 28\, 29)\; font-variant-ligatures: common-ligatures\;">&nbsp\;</span><span style="color: rgb(29\, 28\, 29)\; font-variant-ligatures: common-ligatures\;">showcasing</span><span style="color: rgb(29\, 28\, 29)\; font-variant-ligatures: common-ligatures\;">&nbsp\;technology&nbsp\;</span><span style="color: rgb(29\, 28\, 29)\; font-variant-ligatures: common-ligatures\;">and</span><span style="color: rgb(29\, 28\, 29)\; font-variant-ligatures: common-ligatures\;">&nbsp\;</span><span style="color: rgb(29\, 28\, 29)\; font-variant-ligatures: common-ligatures\;">business</span><span style="color: rgb(29\, 28\, 29)\; font-variant-ligatures: common-ligatures\;">&nbsp\;</span><span style="color: rgb(29\, 28\, 29)\; font-variant-ligatures: common-ligatures\;">related</span><span style="color: rgb(29\, 28\, 29)\; font-variant-ligatures: common-ligatures\;">&nbsp\;topics</span><span style="color: rgb(29\, 28\, 29)\; font-variant-ligatures: common-ligatures\;">.&nbsp\;</span><span style="border:none windowtext 1.0pt\;padding:0in\;">This year&rsquo\;s theme is <strong>Resilience &amp\; Reinvention</strong>.</span><br />\n<br />\nExperienceIT is an opportunity for the&nbsp\;tech industry in New Mexico and beyond to come together &amp\; discuss how tech has been and will continue to be at the forefront of creating resiliency&nbsp\;in our society\, along with the push for reinvention that has occurred in the past few years.&nbsp\;Join us as we talk through consumer shifts\, digital innovation\, cybersecurity\, and big trends to watch for! Attend exciting sessions and connect with the brightest minds in the industry. This year&#39\;s event will bring together technology leaders across industry sectors.<br />\n<br />\nThis year&#39\;s all-day event will feature 5 tracks focused on how the tech industry has gone through reinvention and become even more resilient over the past few years.&nbsp\;</span></span></p>\n\n<ul>\n	<li style="margin: 0px\;"><span style="font-size:14px\;"><span style="font-family:arial\;">Digital Disruption: blockchain\, automation\, AI\, big data\, broadband. web 3</span></span></li>\n	<li style="margin: 0px\;"><span style="font-size:14px\;"><span style="font-family:arial\;">Embracing Change: creativity\, leading change\, innovation\, creative tech</span></span></li>\n	<li style="margin: 0px\;"><span style="font-size:14px\;"><span style="font-family:arial\;">Enhancing Humanity: bioscience\, telehealth\, broadband\, robotics</span></span></li>\n	<li style="margin: 0px\;"><span style="font-size:14px\;"><span style="font-family:arial\;">Reimagining the Workplace: DEI\, productivity\, remote work\, workforce development</span></span></li>\n	<li style="margin: 0px\;"><span style="font-size:14px\;"><span style="font-family:arial\;">Risk Management: zero tolerance\, cybersecurity\, blockchain</span></span></li>\n</ul>\n\n<div style="margin: 0px\;"><span style="font-size:14px\;"><span style="font-family:arial\;"><span style="font-size:16px\;"><strong>To view the full program\, please visit </strong></span><a href="https://experienceitnm.com/2022-content/"><span style="font-size:16px\;"><strong>ExperienceITnm.com</strong></span></a></span></span><br />\n&nbsp\;</div>\n\n<p style="color: rgb(32\, 31\, 30)\; font-size: 12pt\; font-family: &quot\;Times New Roman&quot\;\, serif\; margin: 0px\;"><span style="font-size:14px\;"><span style="font-family:arial\;"><strong>Tickets Include:</strong></span></span></p>\n\n<ul style="padding: 0px 40px\; color: rgb(51\, 51\, 51)\; font-family: sans-serif\, Arial\, Verdana\, &quot\;Trebuchet MS&quot\;\; font-size: 13px\;">\n	<li style="color: rgb(32\, 31\, 30)\; font-size: 12pt\; font-family: &quot\;Times New Roman&quot\;\, serif\; margin: 0px\;"><span style="font-size:14px\;"><span style="font-family:arial\;">Breakfast &amp\; lunch</span></span></li>\n	<li style="color: rgb(32\, 31\, 30)\; font-size: 12pt\; font-family: &quot\;Times New Roman&quot\;\, serif\; margin: 0px\;"><span style="font-size:14px\;"><span style="font-family:arial\;">Access to the full day of content&nbsp\;in person</span></span></li>\n	<li style="color: rgb(32\, 31\, 30)\; font-size: 12pt\; font-family: &quot\;Times New Roman&quot\;\, serif\; margin: 0px\;"><span style="font-size:14px\;"><span style="font-family:arial\;">Networking</span></span></li>\n	<li style="color: rgb(32\, 31\, 30)\; font-size: 12pt\; margin: 0px\;"><span style="font-size:14px\;"><span style="font-family:arial\;">Opportunity to visit with exhibitors and win prizes</span></span></li>\n	<li style="color: rgb(32\, 31\, 30)\; font-size: 12pt\; margin: 0px\;"><span style="font-size:14px\;"><span style="font-family:arial\;">Swag bag</span></span></li>\n</ul>\n\n<p style="margin: 0px\;"><strong><span style="font-size:14px\;"><span style="font-family:arial\;"><font color="#201f1e">NMTC Members - $120</font></span></span></strong></p>\n\n<p style="margin: 0px\;"><strong><span style="font-size:14px\;"><span style="font-family:arial\;"><font color="#201f1e">Non-Member: $150</font></span></span></strong></p>\n<br />\n<span style="font-family:arial\;"><em style="font-size: 12pt\; color: rgb(32\, 31\, 30)\; font-family: &quot\;Times New Roman&quot\;\, serif\;">**The NMTC will follow the New Public Health Orders related to public gatherings for our experienceIT Conference\, as your safety is our utmost concern. As we move forward with planning this great event\, we will continue to monitor and assess the COVID situation and make adjustments to our plans\, as necessary.&nbsp\;</em></span><br />\n&nbsp\;\n<p style="margin: 0px\;"><span style="font-family:arial\;"><em style="font-size: 12pt\; color: rgb(32\, 31\, 30)\; font-family: &quot\;Times New Roman&quot\;\, serif\;">We are doing our absolute best to meet the challenges of our current times as the public health&nbsp\;situation continues to unfold. Tickets will be non-refundable after September 15th\, however NMTC will offer a credit for a future event.</em></span></p>\n
LOCATION:Sandia Resort and Conference Center 30 Rainbow Road Albuquerque\, NM 87113
UID:e.9470.2171
SEQUENCE:3
DTSTAMP:20260425T205956Z
URL:http://nmtechcouncil.chambermaster.com/events/details/experience-it-2022-2171
END:VEVENT

END:VCALENDAR
