BEGIN:VCALENDAR
VERSION:2.0
PRODID:-//ChamberMaster//Event Calendar 2.0//EN
METHOD:PUBLISH
X-PUBLISHED-TTL:P3D
REFRESH-INTERVAL:P3D
CALSCALE:GREGORIAN
BEGIN:VEVENT
DTSTART:20230405T220000Z
DTEND:20230405T230000Z
X-MICROSOFT-CDO-ALLDAYEVENT:FALSE
SUMMARY:Digital Inclusion Peer Group: Immigrants
DESCRIPTION:Discussion + Guest Speakers who work with Spanish-speaking immigrants in NM to address the need for skill-building across language\, literacy\, technology and job skills to help them succeed in today's economy. This Peer Group is open to everyone.
X-ALT-DESC;FMTTYPE=text/html:<div style="border: 0px\; font-variant-numeric: inherit\; font-variant-east-asian: inherit\; font-stretch: inherit\; font-size: 15px\; line-height: inherit\; font-family: &quot\;Segoe UI&quot\;\, &quot\;Segoe UI Web (West European)&quot\;\, &quot\;Segoe UI&quot\;\, -apple-system\, BlinkMacSystemFont\, Roboto\, &quot\;Helvetica Neue&quot\;\, sans-serif\; margin: 0px\; padding: 0px\; vertical-align: baseline\; color: rgb(36\, 36\, 36)\;"><span style="font-size:14px\;"><span style="font-family:arial\;"><span style="color: rgb(36\, 36\, 36)\;">Discussion + Guest Speakers who work with Spanish-speaking immigrants&nbsp\;in NM to address the need for skill-building across language\, literacy\, technology and job skills to help them succeed in today&rsquo\;s economy. This Peer Group is open to everyone.</span></span></span></div>\n
LOCATION:Virtual
UID:e.9470.2223
SEQUENCE:3
DTSTAMP:20260424T050940Z
URL:http://nmtechcouncil.chambermaster.com/events/details/digital-inclusion-peer-group-immigrants-2223
END:VEVENT

END:VCALENDAR
