BEGIN:VCALENDAR
VERSION:2.0
PRODID:-//ChamberMaster//Event Calendar 2.0//EN
METHOD:PUBLISH
X-PUBLISHED-TTL:P3D
REFRESH-INTERVAL:P3D
CALSCALE:GREGORIAN
BEGIN:VEVENT
DTSTART:20231027T173000Z
DTEND:20231027T190000Z
X-MICROSOFT-CDO-ALLDAYEVENT:FALSE
SUMMARY:Cybersecurity Peer Group | Social Engineering Nightmares
DESCRIPTION:In honor of National Cybersecurity Awareness Month \n\nThe NMTC Cybersecurity Peer Group and PNM Resources present: \n\n\n\nSocial Engineering Nightmares\n\nSocial Engineering is genuinely scary. Join us for this panel to understand why a well-executed social engineering attack can be like a nightmare and how you can take steps to protect yourself and your business from an attack. \n\n\n\nIntroduction:\n\nGary Todd\, Director of Security\, PNM Resources \n\n\n\nModerated By:\n\nDel Ameko\, CISO\, ThetaPoint & NMTC Cybersecurity Peer Group Chair \n\nMark Fidel\, Principal\, Fidel Consulting Group & NMTC Cybersecurity Vice Chair\n\n\n\nPanelists Include: \n\nMichael C. Davis\, CEO and Founder\, Merek.io\n\nPatrick Duffy\, Business Development Director\, Merek Security Solutions\n\nRyan Anderson\, Manager of Information Security Engineering & Operations\, PNM Resources\n\nJoseph Baros\, CIO\, State of New Mexico Department of Finance & Administration\n\n \n\n\n\n\n\nAbout the NMTC Cybersecurity Peer Group:\n\nNMTC Cybersecurity Peer group meets monthly with the purpose of bringing together professionals working and/or interested in Cybersecurity with the purpose of providing peer-to-peer learning and professional development by sharing industry best practices and cutting-edge information that is impacting the industry.  This group is open to everyone\, you do not need to be an NMTC member to participate.\n\n\n\nNMTC is a membership association focused on highlighting and elevating its members and the New Mexico Tech Industry.
X-ALT-DESC;FMTTYPE=text/html:<p style="text-align: center\;"><span style="font-size:16px\;"><span style="font-family:arial\;"><em>In honor of National Cybersecurity Awareness Month</em>&nbsp\;<br />\nThe NMTC Cybersecurity Peer Group and PNM Resources present:&nbsp\;</span><br />\n<br />\n<strong><span style="font-size:24px\;">Social Engineering Nightmares</span></strong><br />\nSocial Engineering is genuinely scary. Join us for this panel to understand why a well-executed social engineering attack can be like a nightmare and how you can take steps to protect yourself and your business from an attack.&nbsp\;<br />\n<br />\n<strong>Introduction:<br />\n<a href="https://www.linkedin.com/in/gary-todd-99b9a52/">Gary<span style="font-family:arial\;"> Todd</span></a><span style="font-family:arial\;">\, </span></strong><span style="font-family:arial\;">Director of<span style="color: rgba(0\, 0\, 0\, 0.9)\;">&nbsp\;Security\,&nbsp\;</span>PNM Resources&nbsp\;</span><br />\n<br />\n<strong>Moderated By:<br />\n<a href="https://www.linkedin.com/in/del-ameko/">Del Ameko\,</a></strong> CISO\, ThetaPoint &amp\; NMTC Cybersecurity Peer Group Chair&nbsp\;<br />\n<strong><a href="https://www.linkedin.com/in/markfidelrisksense/">Mark Fidel</a>\,</strong> Principal\, Fidel Consulting Group &amp\; NMTC Cybersecurity Vice Chai<strong>r<br />\n<br />\nPanelists Include:&nbsp\;</strong></span><br />\n<span style="font-family:arial\;"><span style="color: rgba(8\, 27\, 51\, 0.8)\; letter-spacing: 0.32px\; white-space-collapse: preserve\; background-color: rgba(247\, 242\, 242\, 0.1)\;"><span style="font-size:16px\;"><strong><a href="https://www.linkedin.com/in/mereksecurity/">Michael C. Davis\,</a> </strong>CEO and Founder\, Merek.io<br />\n<strong><a href="https://www.linkedin.com/in/patrick-duffy-merek/">Patrick Duffy</a>\, </strong>Business Development Director\, Merek Security Solutions<br />\n<a href="https://www.linkedin.com/in/ryan-anderson-cissp-cisa-pmp-5a585b56/"><strong>Ryan Anderson</strong></a>\, </span></span></span><span style="color: rgba(0\, 0\, 0\, 0.9)\; font-family: -apple-system\, system-ui\, BlinkMacSystemFont\, &quot\;Segoe UI&quot\;\, Roboto\, &quot\;Helvetica Neue&quot\;\, &quot\;Fira Sans&quot\;\, Ubuntu\, Oxygen\, &quot\;Oxygen Sans&quot\;\, Cantarell\, &quot\;Droid Sans&quot\;\, &quot\;Apple Color Emoji&quot\;\, &quot\;Segoe UI Emoji&quot\;\, &quot\;Segoe UI Emoji&quot\;\, &quot\;Segoe UI Symbol&quot\;\, &quot\;Lucida Grande&quot\;\, Helvetica\, Arial\, sans-serif\; font-size: 16px\;">Manager of Information Security Engineering &amp\; Operations\,</span><span style="font-family:arial\;"><span style="color: rgba(8\, 27\, 51\, 0.8)\; letter-spacing: 0.32px\; white-space-collapse: preserve\; background-color: rgba(247\, 242\, 242\, 0.1)\;"><span style="font-size:16px\;"> PNM Resources</span></span></span><br />\n<span style="font-size:16px\;"><span style="color: rgba(8\, 27\, 51\, 0.8)\; letter-spacing: 0.32px\; white-space-collapse: preserve\; background-color: rgba(247\, 242\, 242\, 0.1)\;"><strong><a href="https://www.linkedin.com/in/joeybsfnm/">Joseph Baros</a>\, </strong></span><span style="color: rgba(0\, 0\, 0\, 0.9)\; font-family: -apple-system\, system-ui\, BlinkMacSystemFont\, &quot\;Segoe UI&quot\;\, Roboto\, &quot\;Helvetica Neue&quot\;\, &quot\;Fira Sans&quot\;\, Ubuntu\, Oxygen\, &quot\;Oxygen Sans&quot\;\, Cantarell\, &quot\;Droid Sans&quot\;\, &quot\;Apple Color Emoji&quot\;\, &quot\;Segoe UI Emoji&quot\;\, &quot\;Segoe UI Emoji&quot\;\, &quot\;Segoe UI Symbol&quot\;\, &quot\;Lucida Grande&quot\;\, Helvetica\, Arial\, sans-serif\;">CIO\, State of New Mexico Department of Finance &amp\; Administration</span></span><br />\n&nbsp\;</p>\n\n<p><br />\n<br />\n<span style="font-size:16px\;"><span style="font-size:14px\;"><strong>About the NMTC Cybersecurity Peer Group:</strong><br />\n<span style="font-family:arial\,sans-serif\;">NMTC Cybersecurity Peer group meets monthly with the purpose of bringing together&nbsp\;professionals working and/or interested in Cybersecurity with the purpose of providing peer-to-peer learning and professional development by&nbsp\;sharing industry&nbsp\;best practices and cutting-edge information that is impacting the industry.&nbsp\;&nbsp\;This group is open to everyone\, you do not need to be an NMTC member to participate.<br />\n<br />\nNMTC is a membership association focused on highlighting and elevating its members and the New Mexico Tech Industry.&nbsp\;</span></span></span></p>\n
LOCATION:PNM Resources Building 414 Silver Ave SW Albuquerque\, NM 87102
UID:e.9470.2286
SEQUENCE:3
DTSTAMP:20260420T074927Z
URL:http://nmtechcouncil.chambermaster.com/events/details/cybersecurity-peer-group-social-engineering-nightmares-2286
END:VEVENT

END:VCALENDAR
