BEGIN:VCALENDAR
VERSION:2.0
PRODID:-//ChamberMaster//Event Calendar 2.0//EN
METHOD:PUBLISH
X-PUBLISHED-TTL:P3D
REFRESH-INTERVAL:P3D
CALSCALE:GREGORIAN
BEGIN:VEVENT
DTSTART:20230525T210000Z
DTEND:20230525T220000Z
X-MICROSOFT-CDO-ALLDAYEVENT:FALSE
SUMMARY:Cybersecurity Peer Group: Joining the Cybersecurity Workforce
DESCRIPTION:Join the NMTC Cybersecurity Peer Group for our May Meeting: Joining the Cybersecurity Workforce.\n\n\n\nWe will be providing information and resources to individuals interested in pursuing a career in cybersecurity. The panel will feature cybersecurity professionals discussing current trends and challenges in the field\, as well as providing advice on how to break into the industry.\n\nThis event is targeted towards students\, recent graduates\, or experience professionals looking to transition into a cybersecurity career.
X-ALT-DESC;FMTTYPE=text/html:<p>Join the NMTC Cybersecurity Peer Group for our May Meeting: Joining the Cybersecurity Workforce.<br />\n<br />\nWe will be providing information and resources to individuals interested in pursuing a career in cybersecurity. The panel will feature cybersecurity professionals discussing current trends and challenges in the field\, as well as providing advice on how to break into the industry.</p>\n\n<p>This event is targeted towards students\, recent graduates\, or experience professionals looking to transition into a cybersecurity career.</p>\n
LOCATION:
UID:e.9470.2226
SEQUENCE:3
DTSTAMP:20260419T234119Z
URL:http://nmtechcouncil.chambermaster.com/events/details/cybersecurity-peer-group-joining-the-cybersecurity-workforce-2226
END:VEVENT

END:VCALENDAR
