BEGIN:VCALENDAR
VERSION:2.0
PRODID:-//ChamberMaster//Event Calendar 2.0//EN
METHOD:PUBLISH
X-PUBLISHED-TTL:P3D
REFRESH-INTERVAL:P3D
CALSCALE:GREGORIAN
BEGIN:VEVENT
DTSTART:20240222T220000Z
DTEND:20240222T230000Z
X-MICROSOFT-CDO-ALLDAYEVENT:FALSE
SUMMARY:Cybersecurity Peer Group | Humanize your Password Policy
DESCRIPTION:NMTC Cybersecurity Peer Group presents\n\nHumanize your Password Policy\n\n\n\n\nWhy balance usability and security when you can achieve better security through better usability! It's no coincidence that passwords are both a headache for users and a nightmare for CISOs. Unfortunately\, we've been training users for 30 years to follow inconvenient password rules that end up making our systems less secure. In this webinar\, you'll learn how to create a modern\, evidence-based\, standards-aligned password policy that will fix one of your biggest cybersecurity vulnerabilities   and make you a hero with your users! Plus\, our speaker will be sharing model policy language you can download and swipe for your own policy and procedure documentation.\n\n\n\nSpecial Guest Speaker: Michael Herrick\n\nMichael Herrick is a healthtech serial entrepreneur with more than 30 years experience building technology companies. Michael is the founder and lead risk analyst of HIPAA for Humans where he offers HIPAA and cybersecurity expertise to healthtech startups\, hospitals\, and healthcare practices. Michael is also the co-founding Chief Technology Officer of Medicheck\, a Guadalajara startup bringing electronic health records to Latin America. Michael's cybersecurity consulting is driven by his unique perspective combining technology and policy with an unwavering focus on human-centered design. \n\n\n\nThe primary goal of a cybersecurity peer group is to foster collaboration and facilitate the exchange of ideas regarding emerging threats\, best practices\, innovative technologies\, and effective strategies to mitigate cyber risks. Peer Group activities include educational presentations\, discussions\, and knowledge-sharing sessions to help the participants stay updated on the latest trends and challenges in the ever-evolving landscape of cybersecurity. These groups typically consist of individuals from diverse backgrounds\, including cybersecurity analysts\, engineers\, ethical hackers\, CISOs (Chief Information Security Officers)\, and other experts in the domain.
X-ALT-DESC;FMTTYPE=text/html:<div style="text-align: center\;">NMTC Cybersecurity Peer Group presents<br />\n<span style="font-size:20px\;"><b>Humanize your Password Policy</b></span></div>\n<br />\n<br />\n<span style="font-family:arial\;"><span style="font-size:14px\;"><span style="color: rgb(0\, 0\, 0)\;">Why balance usability and security when you can achieve better security through better usability! It&#39\;s no coincidence that passwords are both a headache for users and a nightmare for CISOs. Unfortunately\, we&#39\;ve been training users for 30 years to follow inconvenient password rules that end up making our systems less secure. In this webinar\, you&#39\;ll learn how to create a modern\, evidence-based\, standards-aligned password policy that will fix one of your biggest cybersecurity vulnerabilities &mdash\; and make you a hero with your users! Plus\, our speaker will be sharing model policy language you can download and swipe for your own policy and procedure documentation.<br />\n<br />\n<em>Special Guest Speaker: <strong>Michael Herrick</strong></em><br />\nMichael Herrick is a healthtech serial entrepreneur with more than 30 years experience building technology companies. Michael is the founder and lead risk analyst of HIPAA for Humans where he offers HIPAA and cybersecurity expertise to healthtech startups\, hospitals\, and healthcare practices. Michael is also the co-founding Chief Technology Officer of Medicheck\, a Guadalajara startup bringing electronic health records to Latin America. Michael&rsquo\;s cybersecurity consulting is driven by his unique perspective combining technology and policy with an unwavering focus on human-centered design.&nbsp\;</span><br />\n<br />\n<span class="TextRun SCXW89376374 BCX0" data-contrast="auto" lang="EN-US" style="margin: 0px\; padding: 0px\; user-select: text\; -webkit-user-drag: none\; -webkit-tap-highlight-color: transparent\; font-variant-numeric: normal\; font-variant-east-asian: normal\; font-variant-alternates: normal\; font-variant-position: normal\; color: windowtext\; font-style: normal\; white-space-collapse: preserve\; background-color: transparent\; line-height: 19.425px\;" xml:lang="EN-US"><span class="NormalTextRun SCXW89376374 BCX0" style="margin: 0px\; padding: 0px\; user-select: text\; -webkit-user-drag: none\; -webkit-tap-highlight-color: transparent\;">The primary goal of a </span><span class="NormalTextRun SCXW89376374 BCX0" style="margin: 0px\; padding: 0px\; user-select: text\; -webkit-user-drag: none\; -webkit-tap-highlight-color: transparent\;">cybersecurity</span><span class="NormalTextRun SCXW89376374 BCX0" style="margin: 0px\; padding: 0px\; user-select: text\; -webkit-user-drag: none\; -webkit-tap-highlight-color: transparent\;"> peer group is to foster collaboration and </span><span class="NormalTextRun SCXW89376374 BCX0" style="margin: 0px\; padding: 0px\; user-select: text\; -webkit-user-drag: none\; -webkit-tap-highlight-color: transparent\;">facilitate</span><span class="NormalTextRun SCXW89376374 BCX0" style="margin: 0px\; padding: 0px\; user-select: text\; -webkit-user-drag: none\; -webkit-tap-highlight-color: transparent\;"> the exchange of ideas </span><span class="NormalTextRun SCXW89376374 BCX0" style="margin: 0px\; padding: 0px\; user-select: text\; -webkit-user-drag: none\; -webkit-tap-highlight-color: transparent\;">regarding</span><span class="NormalTextRun SCXW89376374 BCX0" style="margin: 0px\; padding: 0px\; user-select: text\; -webkit-user-drag: none\; -webkit-tap-highlight-color: transparent\;"> emerging threats\, best practices\, innovative technologies\, and effective strategies to mitigate cyber risks.</span><span class="NormalTextRun SCXW89376374 BCX0" style="margin: 0px\; padding: 0px\; user-select: text\; -webkit-user-drag: none\; -webkit-tap-highlight-color: transparent\;"> </span><span class="NormalTextRun SCXW89376374 BCX0" style="margin: 0px\; padding: 0px\; user-select: text\; -webkit-user-drag: none\; -webkit-tap-highlight-color: transparent\;">Peer Group activities include educational presentations\, discussions\, and knowledge-sharing sessions to help the participants stay updated on the latest trends and challenges in the ever-evolving landscape of cybersecurity.</span><span class="NormalTextRun SCXW89376374 BCX0" style="margin: 0px\; padding: 0px\; user-select: text\; -webkit-user-drag: none\; -webkit-tap-highlight-color: transparent\;"> </span><span class="NormalTextRun SCXW89376374 BCX0" style="margin: 0px\; padding: 0px\; user-select: text\; -webkit-user-drag: none\; -webkit-tap-highlight-color: transparent\;">These groups typically consist of individuals from diverse backgrounds\, including cybersecurity analysts\, engineers\, ethical hackers\, CISOs (Chief Information Security Officers)\, and other experts in the domain.</span></span><span class="EOP SCXW89376374 BCX0" data-ccp-props="{&quot\;134233117&quot\;:false\,&quot\;201341983&quot\;:0\,&quot\;335559738&quot\;:0\,&quot\;335559739&quot\;:160\,&quot\;335559740&quot\;:259}" style="margin: 0px\; padding: 0px\; user-select: text\; -webkit-user-drag: none\; -webkit-tap-highlight-color: transparent\; color: windowtext\; white-space-collapse: preserve\; line-height: 19.425px\;">&nbsp\;</span></span></span>
LOCATION:This meeting is virtual and will occur over a Teams Meeting. The link for the meeting will be provided at the time of registration.
UID:e.9470.2299
SEQUENCE:3
DTSTAMP:20260425T173139Z
URL:http://nmtechcouncil.chambermaster.com/events/details/cybersecurity-peer-group-humanize-your-password-policy-2299
END:VEVENT

END:VCALENDAR
