BEGIN:VCALENDAR
VERSION:2.0
PRODID:-//ChamberMaster//Event Calendar 2.0//EN
METHOD:PUBLISH
X-PUBLISHED-TTL:P3D
REFRESH-INTERVAL:P3D
CALSCALE:GREGORIAN
BEGIN:VEVENT
DTSTART:20231117T203000Z
DTEND:20231117T213000Z
X-MICROSOFT-CDO-ALLDAYEVENT:FALSE
SUMMARY:Broadband Peer Group: Digital Divide
DESCRIPTION:THIS EVENT HAS BEEN CANCELED\n\nPlease consider attending next months event on 12/15/23. More info is available on the events page. \n\n\n\nThe Broadband Peer Group is an opportunity for professionals across the state to discuss and collaborate with local and state government entities. In November\, our topic for discussion will be "The Digital Divide": Doesn't everyone have access to the internet? This month we will be discussion what needs to be done in community to help everyone access the resources they need to be part of this connected world.\n\n\n\n\n\nNMTC Peer Groups are free and open to everyone.
X-ALT-DESC;FMTTYPE=text/html:<p><span style="font-family:arial\,sans-serif\;"><span style="font-size:24px\;"><strong><span style="color:#B22222\;">THIS EVENT HAS BEEN CANCELED</span></strong><br />\n<span style="font-size:18px\;"><em>Please consider attending next months event on 12/15/23. More info is available&nbsp\;on the events page.&nbsp\;</em></span></span><br />\n<br />\nThe Broadband Peer Group is an opportunity for professionals across the state to discuss and collaborate with local and state government entities. In November\, our topic for discussion will be &quot\;The Digital Divide&quot\;:&nbsp\;</span><span style="font-family:arial\,sans-serif\;">Doesn&rsquo\;t everyone have access to the internet? This month we will be discussion what needs to be done in community to help everyone access the resources they need to be part of this connected world.</span><br />\n<br />\n<br />\n<span style="color: rgb(68\, 68\, 68)\;"><span style="font-size:14px\;"><span style="font-family:arial\;">NMTC Peer Groups are free and open to everyone.</span></span></span></p>\n
LOCATION:Microsoft Teams meeting Join on your computer\, mobile app or room device Click here to join the meeting Meeting ID: 235 542 937 402 Passcode: gcHTE5 Download Teams | Join on the web Or call in (audio only) +1 347-467-1434\,\,510714756# United States\, New York City Phone Conference ID: 510 714 756# Find a local number | Reset PIN Learn More | Meeting options
UID:e.9470.2274
SEQUENCE:3
DTSTAMP:20260419T150207Z
URL:http://nmtechcouncil.chambermaster.com/events/details/broadband-peer-group-digital-divide-2274
END:VEVENT

END:VCALENDAR
