BEGIN:VCALENDAR
VERSION:2.0
PRODID:-//ChamberMaster//Event Calendar 2.0//EN
METHOD:PUBLISH
X-PUBLISHED-TTL:P3D
REFRESH-INTERVAL:P3D
CALSCALE:GREGORIAN
BEGIN:VEVENT
DTSTART:20230504T150000Z
DTEND:20230504T231500Z
X-MICROSOFT-CDO-ALLDAYEVENT:FALSE
SUMMARY:ABQNOG
DESCRIPTION:A technical conference centered on broadband and networking and run by networking professionals to help other networking professionals. \n\n\n\nABQNOG was created to meet other people in the region that run networks\, expand your personal network by meeting others in the region and set up presentations on internetworking topics.
X-ALT-DESC;FMTTYPE=text/html:<p style="box-sizing: inherit\; margin: 0px 0px 1rem\; padding: 0px\; font-size: 18px\; line-height: 1.6\; text-rendering: optimizelegibility\; color: rgb(0\, 0\, 0)\; font-family: Jost\, sans-serif\;"><span style="color: rgb(0\, 0\, 0)\; font-family: arial\; font-size: 14px\;">A technical conference centered on broadband and networking and run by networking professionals to help other networking professionals.&nbsp\;</span><br />\n<br />\n<span style="font-size:14px\;"><span style="font-family:arial\;">ABQNOG was created to meet other people in the region that run networks\, expand your personal network by meeting others in the region and set up presentations on internetworking topics.</span></span></p>\n
LOCATION:African American Pavilion 300 San Pedro Drive Northeast Albuquerque\, NM\, 87108
UID:e.9470.2225
SEQUENCE:3
DTSTAMP:20260424T000121Z
URL:http://nmtechcouncil.chambermaster.com/events/details/abqnog-2225
END:VEVENT

END:VCALENDAR
